BEGIN:VCALENDAR
VERSION:2.0
PRODID:-// - ECPv6.15.20//NONSGML v1.0//EN
CALSCALE:GREGORIAN
METHOD:PUBLISH
X-ORIGINAL-URL:https://www.biz-kempen.be
X-WR-CALDESC:Evenementen voor 
REFRESH-INTERVAL;VALUE=DURATION:PT1H
X-Robots-Tag:noindex
X-PUBLISHED-TTL:PT1H
BEGIN:VTIMEZONE
TZID:Europe/Helsinki
BEGIN:DAYLIGHT
TZOFFSETFROM:+0200
TZOFFSETTO:+0300
TZNAME:EEST
DTSTART:20240331T010000
END:DAYLIGHT
BEGIN:STANDARD
TZOFFSETFROM:+0300
TZOFFSETTO:+0200
TZNAME:EET
DTSTART:20241027T010000
END:STANDARD
BEGIN:DAYLIGHT
TZOFFSETFROM:+0200
TZOFFSETTO:+0300
TZNAME:EEST
DTSTART:20250330T010000
END:DAYLIGHT
BEGIN:STANDARD
TZOFFSETFROM:+0300
TZOFFSETTO:+0200
TZNAME:EET
DTSTART:20251026T010000
END:STANDARD
BEGIN:DAYLIGHT
TZOFFSETFROM:+0200
TZOFFSETTO:+0300
TZNAME:EEST
DTSTART:20260329T010000
END:DAYLIGHT
BEGIN:STANDARD
TZOFFSETFROM:+0300
TZOFFSETTO:+0200
TZNAME:EET
DTSTART:20261025T010000
END:STANDARD
END:VTIMEZONE
BEGIN:VEVENT
DTSTART;TZID=Europe/Helsinki:20251217T091500
DTEND;TZID=Europe/Helsinki:20251217T120000
DTSTAMP:20260423T225032
CREATED:20250527T100458Z
LAST-MODIFIED:20250527T111217Z
UID:8481-1765962900-1765972800@www.biz-kempen.be
SUMMARY:Hoe verloopt een hoorzitting CSR op de arbeidsrechtbank?
DESCRIPTION:Ben jij benieuwd hoe een dossier collectieve schuldenregeling (CSR) verloopt op de arbeidsrechtbank? Wil je te weten komen hoe een CSR wordt goedgekeurd\, herzien of afgesloten wordt? Wil je weten bij wie je als hulpverlener terecht kan met vragen over een CSR? Wil je weten hoe klachten worden behandeld over CSR? … \nBIZ Kempen organiseert samen met de arbeidsrecthbank afdeling Turnhout ‘een kijk achter de schermen’. Als eerste\, mogen we om 9u30 aansluiten op de hoorzitting van CSR. De dossiers die dan ter sprake komen\, kunnen we niet meedelen. Dit kan gaan van een opening\, herziening of een afsluiting van een CSR. Of wordt de persoon en de advocaat-schuldbemiddelaar opgeroepen voor een geschil uit te klaren. \nVervolgens is er de mogelijkheid om rechtstreeks in gesprek te gaan met de griffiers (Wout Maes en Katrien Van Riel) en de arbeidsrechter. Zij staan klaar om uitleg te geven over de werking van de arbeidsrechtbank en om jullie vragen te beantwoorden. \nMocht je vragen hebben\, neem ze zeker mee! \nOpgelet! Plaatsen zijn beperkt! \n WANNEER: woensdag 17 december 2025 van 9u15-12u\nWAAR: arbeidsrechtbank Turnhout\, afdeling CSR. Kasteelplein 11\, 2300 Turnhout\nVOOR WIE: alle hulpverleners die in contact komen met een collectieve schuldenregeling\nKOSTPRIJS: gratis \n\n\n	Bericht: JavaScript is vereist voor deze inhoud.\nDeze rondleiding is helaas volzet. 
URL:https://www.biz-kempen.be/blijf-expert/hoe-verloopt-een-hoorzitting-csr-op-de-arbeidsrechtbank-2/
LOCATION:Arbeidsrechtbank Turnhout\, Kasteelplein 11\, Turnhout
END:VEVENT
BEGIN:VEVENT
DTSTART;TZID=Europe/Helsinki:20251103T200000
DTEND;TZID=Europe/Helsinki:20251103T213000
DTSTAMP:20260423T225032
CREATED:20250908T123257Z
LAST-MODIFIED:20250909T121130Z
UID:8520-1762200000-1762205400@www.biz-kempen.be
SUMMARY:gratis webinar: gokken is géén spel!
DESCRIPTION:BIZ Vlaanderen en Brussel organiseren samen een webinar over gokken. \nBen jij een ouder\, opvoeder of voogd en weet je niet goed hoe je met je jongeren moet praten over gokken? \n\n\nOp maandag 3 november nodigen we ervaringsdeskundige Arne Nilis uit om te komen praten over gokken. \n\nHij zal het onder andere hebben over:\n\n\nWat is gokken en hoe kan je het herkennen?\nHoe ga je met jongeren in gesprek rond gokken?\nWaar kan je terecht voor hulp?\n\nPraktisch: \n\n\n\nDatum: maandag 3 november\nTijdstip: 20u – 21u30\nPrijs: gratis\nInschrijven via: https://docs.google.com/forms/d/e/1FAIpQLSflrSny5y_PS1TYfzzFZidLvjvMnVQIRVCAH89P5GYyK9bStQ/viewform\n\n 
URL:https://www.biz-kempen.be/blijf-expert/gratis-webinar-gokken-is-geen-spel/
LOCATION:online
END:VEVENT
BEGIN:VEVENT
DTSTART;TZID=Europe/Helsinki:20251001T091500
DTEND;TZID=Europe/Helsinki:20251001T120000
DTSTAMP:20260423T225032
CREATED:20250327T123551Z
LAST-MODIFIED:20250408T125155Z
UID:8373-1759310100-1759320000@www.biz-kempen.be
SUMMARY:VOLZET! Hoe verloopt een hoorzitting CSR op de arbeidsrechtbank
DESCRIPTION:Ben jij benieuwd hoe een dossier collectieve schuldenregeling (CSR) verloopt op de arbeidsrechtbank? Wil je te weten komen hoe een CSR wordt goedgekeurd\, herzien of afgesloten wordt? Wil je weten bij wie je als hulpverlener terecht kan met vragen over een CSR? Wil je weten hoe klachten worden behandeld over CSR? … \nBIZ Kempen organiseert samen met de arbeidsrecthbank afdeling Turnhout ‘een kijk achter de schermen’. Als eerste\, mogen we om 9u30 aansluiten op de hoorzitting van CSR. De dossiers die dan ter sprake komen\, kunnen we niet meedelen. Dit kan gaan van een opening\, herziening of een afsluiting van een CSR. Of wordt de persoon en de advocaat-schuldbemiddelaar opgeroepen. \nVervolgens is er de mogelijkheid om rechtstreeks in gesprek te gaan met de griffiers (Wout Maes en Katrien Van Riel) en de arbeidsrechter. Zij staan klaar om uitleg te geven over de werking van de arbeidsrechtbank en om jullie vragen te beantwoorden. \nMocht je vragen hebben\, neem ze zeker mee! \nOpgelet! Plaatsen zijn beperkt! \n WANNEER: woensdag 1 oktober 2025 van 9u15-12u\nWAAR: arbeidsrechtbank Turnhout\, afdeling CSR. Kasteelplein 11\, 2300 Turnhout\nVOOR WIE: alle hulpverleners die in contact komen met een collectieve schuldenregeling\nKOSTPRIJS: gratis \n\n\nHelaas zijn de plaatsen volzet. \nWe bekijken of we dit opnieuw kunnen organiseren op een later moment. Hou hiervoor onze nieuwsbrief / website in het oog! 
URL:https://www.biz-kempen.be/blijf-expert/hoe-verloopt-een-hoorzitting-csr-op-de-arbeidsrechtbank/
LOCATION:Arbeidsrechtbank Turnhout\, Kasteelplein 11\, Turnhout
END:VEVENT
BEGIN:VEVENT
DTSTART;TZID=Europe/Helsinki:20250916T100000
DTEND;TZID=Europe/Helsinki:20250916T130000
DTSTAMP:20260423T225032
CREATED:20250422T100105Z
LAST-MODIFIED:20250422T100105Z
UID:8447-1758016800-1758027600@www.biz-kempen.be
SUMMARY:Vorming leidraad voor hulpverleners: 'administratieve begeleiding van mensen tijdens detentie'
DESCRIPTION:Over de vorming\nDetentie heeft grote gevolgen voor het budget en de administratie van de cliënt. Vaak komen cliënten met vragen rond o.a. domicilieadres\, vaste kosten en schulden. Weet jij als hulpverlener niet altijd hoe hiermee om te gaan? Deze leidraad kan een handig hulpmiddel zijn. \nDoorheen de 4 hoofdstukken komen volgende thema’s aan bod:\n* opvolgen van post & administratie\n* eerste hulp bij schulden\n* vrijlating in zicht\n* meer informatie en doorverwijzen \nVOOR WIE?\nDe leidraad is er voor JWW\, justitieassistenten\, PSD en iedereen die mensen in detentie begeleidt op vlak van budget en schulden. \nKostprijs = GRATIS \nWanneer en inschrijven?  \n\n10/06 van 10u-13u in Hasselt\n13/06 van 10u-13u in Gent\n16/09 van 10u-13u in Turnhout \n25/09 van 10u-13u in Brugge
URL:https://www.biz-kempen.be/blijf-expert/vorming-leidraad-voor-hulpverleners-administratieve-begeleiding-van-mensen-tijdens-detentie/
LOCATION:Zaal De JOKER\, CAW De Kempen\, stationstraat 80\, Turnhout\, Antwerpen\, 2300
END:VEVENT
BEGIN:VEVENT
DTSTART;TZID=Europe/Helsinki:20250522T090000
DTEND;TZID=Europe/Helsinki:20250522T120000
DTSTAMP:20260423T225032
CREATED:20250228T112853Z
LAST-MODIFIED:20250228T121218Z
UID:8288-1747904400-1747915200@www.biz-kempen.be
SUMMARY:Vorming: Hoe maak je als hulpverlener de keuze tussen bewindvoering\, csr en/of budgetbeheer
DESCRIPTION:Hoe maak je als hulpverlener de keuze tussen bewindvoering\, collectieve schuldenregeling en/of budgetbeheer als advies voor je cliënt? Ontdek het in deze vorming! \nProgramma \n9u00 – 9u10: Welkom door BIZ Kempen \n9u10 – 11u00: Budgetbeheer vs. bewindvoering (BIZ Antwerpen) \n\nWat is het verschil?\nHoe beoordeel je of iemand geschikt is voor bewindvoering?\n\n11u00 – 12u00: Gastspreker Egied Wouters (bewindvoerder/schuldbemiddelaar) \n\nDe rolverdeling tussen CSR en bewindvoering\nSpelregels rond de aanvraag van bewindvoering\nRechten en plichten van iemand onder bewind\n\nOpgelet\, plaatsen zijn beperkt!! \n  \n\n	Bericht: JavaScript is vereist voor deze inhoud.
URL:https://www.biz-kempen.be/blijf-expert/vorming-welke-hulpverleningsvorm-kan-je-kiezen-voor-je-client/
LOCATION:Zaal Hofkwartier\, CAW de Kempen\, Hofkwartier 23\, Herentals\, 2200
END:VEVENT
BEGIN:VEVENT
DTSTART;TZID=Europe/Helsinki:20250515T090000
DTEND;TZID=Europe/Helsinki:20250515T163000
DTSTAMP:20260423T225032
CREATED:20250228T100630Z
LAST-MODIFIED:20250228T110058Z
UID:8260-1747299600-1747326600@www.biz-kempen.be
SUMMARY:Vorming voor startende budget- en schuldhulpverleners
DESCRIPTION:!! Deze vorming is bedoeld voor pas startende budget- en schuldhulpverleners !! \nIn deze vorming staan we stil bij het opmaken van een (haalbaar) budgetplan en hoe je als hulpverlener verschillende facturen kan ordenen om tot een goed overzicht van (mogelijke) schulden te komen om vervolgens een haalbaar afbetaalplan te bekomen. \nLunch wordt voorzien. \nKostprijs: 50€/deelnemer \n\n	Bericht: JavaScript is vereist voor deze inhoud.
URL:https://www.biz-kempen.be/blijf-expert/vorming-voor-startende-budget-en-schuldhulpverleners/
LOCATION:Zaal Jade\, welzijnszorg Kempen\, Antwerpseweg 1\, Geel\, 2440\, Belgium
END:VEVENT
BEGIN:VEVENT
DTSTART;TZID=Europe/Helsinki:20250429T133000
DTEND;TZID=Europe/Helsinki:20250429T160000
DTSTAMP:20260423T225032
CREATED:20250228T120050Z
LAST-MODIFIED:20250228T120638Z
UID:8291-1745933400-1745942400@www.biz-kempen.be
SUMMARY:Vorming nieuwe tarieven gerechtsdeurwaarder. Wat verandert er voor jou?
DESCRIPTION:Sinds 1 oktober 2024 zijn de nieuwe tarieven van gerechtsdeurwaarders van kracht. Maar wat betekent dit precies? Welke impact heeft dit op jouw dossiers? En hoe zit het met de overgangsmaatregelen? \nWil je hier meer over weten en ben je op zoek naar extra uitleg? Gerechtsdeurwaarder Toon Sorgeloos van Modero komt langs om de wetswijzigingen op een heldere manier toe te lichten. \n  \nMis deze kans niet om je kennis bij te schaven en antwoorden te krijgen op jouw vragen! \nWe kijken ernaar uit je te verwelkomen! \n\n	Bericht: JavaScript is vereist voor deze inhoud.\n\n\n    \n\n\n        \n        \n         \nOpgelet\, plaatsen zijn beperkt \n 
URL:https://www.biz-kempen.be/blijf-expert/vorming-nieuwe-tarieven-gerechtsdeurwaarder-wat-verandert-er-voor-jou/
LOCATION:Zaal Hofkwartier\, CAW de Kempen\, Hofkwartier 23\, Herentals\, 2200
END:VEVENT
BEGIN:VEVENT
DTSTART;TZID=Europe/Helsinki:20250321T123000
DTEND;TZID=Europe/Helsinki:20250321T130000
DTSTAMP:20260423T225032
CREATED:20250228T104716Z
LAST-MODIFIED:20250228T110013Z
UID:8282-1742560200-1742562000@www.biz-kempen.be
SUMMARY:Webinar: ga in gesprek met behulp van een metafoor
DESCRIPTION:Heb je net een dossier opgestart en wil je doelen bepalen? Duurt het hulpverleningstraject al lang en weet je niet goed wat te doen? De autometafoor is een gesprekstool om samen met je cliënt te reflecteren over de begeleiding en waar deze naartoe gaat. Laat je inspireren om hiermee aan de slag te gaan! \nDeze webinar en tool is er zowel voor budget- en schuldhulpverleners als voor hulpverleners van de brede sociale sector. \nIk schrijf me in! 
URL:https://www.biz-kempen.be/blijf-expert/webinar-ga-in-gesprek-met-behulp-van-een-metafoor/
LOCATION:online
END:VEVENT
BEGIN:VEVENT
DTSTART;TZID=Europe/Helsinki:20250320T123000
DTEND;TZID=Europe/Helsinki:20250320T130000
DTSTAMP:20260423T225032
CREATED:20250228T104510Z
LAST-MODIFIED:20250228T104510Z
UID:8280-1742473800-1742475600@www.biz-kempen.be
SUMMARY:Webinar : aan de slag met budgetwijzer.be met focus op energie
DESCRIPTION:Wil je cliënten nog beter ondersteunen bij budget- en energievraagstukken? Ben je op zoek naar concrete budget- en energietools? We lichten toe welke info je kan vinden op Budgetwijzer.be en bekijken hoe je deze tools kan inzetten in je begeleiding. \nDeze webinar richt zicht naar hulpverleners uit de brede sociale sector met vragen rond energie. \nIk schrijf me in! 
URL:https://www.biz-kempen.be/blijf-expert/webinar-aan-de-slag-met-budgetwijzer-be-met-focus-op-energie/
LOCATION:online
END:VEVENT
BEGIN:VEVENT
DTSTART;TZID=Europe/Helsinki:20250319T140000
DTEND;TZID=Europe/Helsinki:20250319T143000
DTSTAMP:20260423T225032
CREATED:20250228T103306Z
LAST-MODIFIED:20250228T103338Z
UID:8277-1742392800-1742394600@www.biz-kempen.be
SUMMARY:Webinar: leren budgetteren met wakosta.be
DESCRIPTION:Wil jij jongeren leren wat het leven op eigen benen kost? Laat je inspireren door wakosta.be en ontdek hoe aan de slag kan gaan met:\n– het online budgetspel\n– de wakosta-app & budgetplanner\n– het inleefparcours\n– de wakosta-in-beeld filmpjes \nBen je leerkracht of hulpverlener? Deze webinar is er voor iedereen die met jongeren werkt en hen wil aanmoedigen om op eigen benen te staan. \nIk schrijf me in! 
URL:https://www.biz-kempen.be/blijf-expert/webinar-leren-budgetteren-met-wakosta-beik-schrijf-me-in/
LOCATION:online
END:VEVENT
BEGIN:VEVENT
DTSTART;TZID=Europe/Helsinki:20250318T140000
DTEND;TZID=Europe/Helsinki:20250318T160000
DTSTAMP:20260423T225032
CREATED:20250303T123904Z
LAST-MODIFIED:20250303T123904Z
UID:8319-1742306400-1742313600@www.biz-kempen.be
SUMMARY:Praten met de bezoekers van het ILC in Mol
DESCRIPTION:Vandaag gaan we naar inloopcentrum De Passage in Mol. Hier gaan we met de bezoekers in gesprek rond de volgende onderwerpen: \n\nhoe kan je schulden voorkomen\nwat kan je doen als je schulden hebt\nuitleg over de Wakosta-app\n\n  \n  \n 
URL:https://www.biz-kempen.be/blijf-expert/praten-met-de-bezoekers-van-het-ilc-in-mol/
LOCATION:ILC Mol\, Sint-Apollonialaan 198\, Mol\, 2400
END:VEVENT
BEGIN:VEVENT
DTSTART;TZID=Europe/Helsinki:20250318T123000
DTEND;TZID=Europe/Helsinki:20250318T130000
DTSTAMP:20260423T225032
CREATED:20250228T103111Z
LAST-MODIFIED:20250228T103111Z
UID:8274-1742301000-1742302800@www.biz-kempen.be
SUMMARY:Webinar: aan de slag met budgetinbeeld.be
DESCRIPTION:Budget in beeld geeft een online\, gepersonaliseerd maandoverzicht waarin je samen met de cliënt inkomsten en uitgaven kan ingeven. Je krijgt zo een visueel duidelijk en realistisch beeld van de financiële situatie per week of per maand​. \nIn deze webinar leggen we uit hoe je eenvoudig met de website aan de slag kan\, hoe je een overzicht maakt\, kan opslaan en printen\,… \nIk schrijf me in! 
URL:https://www.biz-kempen.be/blijf-expert/webinar-aan-de-slag-met-budgetinbeeld-be/
LOCATION:online
END:VEVENT
BEGIN:VEVENT
DTSTART;TZID=Europe/Helsinki:20250317T123000
DTEND;TZID=Europe/Helsinki:20250317T130000
DTSTAMP:20260423T225032
CREATED:20250228T102819Z
LAST-MODIFIED:20250228T105817Z
UID:8271-1742214600-1742216400@www.biz-kempen.be
SUMMARY:Webinar stress-sensitief werken\, hoe doe je dat?
DESCRIPTION:Vanuit de neurowetenschappen blijkt dat het improductieve gedrag van mensen in financiële moeilijkheden vaak geen teken is van “niet-willen” maar wel van “niet-lukken”. \nAls we meer aandacht hebben voor het effect van financiële stress op de cliënt kan onze budgethulpverlening effectiever worden. \nIn dit webinar leggen we uit hoe chronische stress werkt in het brein en hoe we dit kunnen vertalen naar gesprekken met cliënten in financiële moeilijkheden. \nIk schrijf me in! 
URL:https://www.biz-kempen.be/blijf-expert/webinar-stress-sensitief-werken-hoe-doe-je-dat/
LOCATION:online
END:VEVENT
END:VCALENDAR