BEGIN:VCALENDAR
VERSION:2.0
PRODID:-// - ECPv6.15.20//NONSGML v1.0//EN
CALSCALE:GREGORIAN
METHOD:PUBLISH
X-ORIGINAL-URL:https://www.biz-kempen.be
X-WR-CALDESC:Evenementen voor 
REFRESH-INTERVAL;VALUE=DURATION:PT1H
X-Robots-Tag:noindex
X-PUBLISHED-TTL:PT1H
BEGIN:VTIMEZONE
TZID:Europe/Helsinki
BEGIN:DAYLIGHT
TZOFFSETFROM:+0200
TZOFFSETTO:+0300
TZNAME:EEST
DTSTART:20250330T010000
END:DAYLIGHT
BEGIN:STANDARD
TZOFFSETFROM:+0300
TZOFFSETTO:+0200
TZNAME:EET
DTSTART:20251026T010000
END:STANDARD
BEGIN:DAYLIGHT
TZOFFSETFROM:+0200
TZOFFSETTO:+0300
TZNAME:EEST
DTSTART:20260329T010000
END:DAYLIGHT
BEGIN:STANDARD
TZOFFSETFROM:+0300
TZOFFSETTO:+0200
TZNAME:EET
DTSTART:20261025T010000
END:STANDARD
BEGIN:DAYLIGHT
TZOFFSETFROM:+0200
TZOFFSETTO:+0300
TZNAME:EEST
DTSTART:20270328T010000
END:DAYLIGHT
BEGIN:STANDARD
TZOFFSETFROM:+0300
TZOFFSETTO:+0200
TZNAME:EET
DTSTART:20271031T010000
END:STANDARD
END:VTIMEZONE
BEGIN:VEVENT
DTSTART;TZID=Europe/Helsinki:20260506T091500
DTEND;TZID=Europe/Helsinki:20260506T120000
DTSTAMP:20260423T150341
CREATED:20260226T092249Z
LAST-MODIFIED:20260319T123342Z
UID:8581-1778058900-1778068800@www.biz-kempen.be
SUMMARY:VOLZET! Hoe verloopt een hoorzitting CSR op de arbeidsrechtbank
DESCRIPTION:Ben jij benieuwd hoe een dossier collectieve schuldenregeling (CSR) verloopt op de arbeidsrechtbank? Wil je te weten komen hoe een CSR wordt goedgekeurd\, herzien of afgesloten wordt? Wil je weten bij wie je als hulpverlener terecht kan met vragen over een CSR? Wil je weten hoe klachten worden behandeld over CSR? … \nBIZ Kempen organiseert samen met de arbeidsrecthbank afdeling Turnhout ‘een kijk achter de schermen’. Als eerste\, mogen we om 9u30 aansluiten op de hoorzitting van CSR. De dossiers die dan ter sprake komen\, kunnen we niet meedelen. Dit kan gaan van een opening\, herziening of een afsluiting van een CSR. Of wordt de persoon en de advocaat-schuldbemiddelaar opgeroepen voor een geschil uit te klaren. \nVervolgens is er de mogelijkheid om rechtstreeks in gesprek te gaan met de griffiers (Wout Maes en Katrien Van Riel) en de arbeidsrechter. Zij staan klaar om uitleg te geven over de werking van de arbeidsrechtbank en om jullie vragen te beantwoorden. \nMocht je vragen hebben\, neem ze zeker mee! \nOpgelet! Plaatsen zijn beperkt! \n  \nWANNEER: woensdag 6 mei 2026 van 9u15-12u\nWAAR: arbeidsrechtbank Turnhout\, afdeling CSR. Kasteelplein 11\, 2300 Turnhout\nVOOR WIE: alle hulpverleners die in contact komen met een collectieve schuldenregeling\nKOSTPRIJS: gratis \n\n.\n.\n.\n\n\n	Bericht: JavaScript is vereist voor deze inhoud.\nDeze rondleiding is helaas volzet. 
URL:https://www.biz-kempen.be/blijf-expert/hoe-verloopt-een-hoorzitting-csr-op-de-arbeidsrechtbank-3/
LOCATION:Arbeidsrechtbank Turnhout\, Kasteelplein 11\, Turnhout
END:VEVENT
BEGIN:VEVENT
DTSTART;TZID=Europe/Helsinki:20260519T123000
DTEND;TZID=Europe/Helsinki:20260519T133000
DTSTAMP:20260423T150341
CREATED:20260403T073255Z
LAST-MODIFIED:20260326T124643Z
UID:8611-1779193800-1779197400@www.biz-kempen.be
SUMMARY:BIZonderonsje - lunchwebinar OCMW Geel: dossierrotatie
DESCRIPTION:Met BIZonderonsjes lanceren we dit voorjaar een nieuw\, laagdrempelig initiatief om inspirerende praktijken tussen  \nOCMW’s\, CAW’s en verenigingen waar armen het woord nemen (VWAWN) zichtbaar te maken. \n  \nWAT IS EEN BIZONDERONSJE? \nEen BIZonderonsje is een kort online voorstellingsmoment waarin één organisatie een inspirerende praktijk toelicht. \n12u30 – 13u00: voorstelling van een inspirerende praktijk (max. 30 min) \n13u00 – 13u30: ruimte voor vragen en gesprek \nDeelname aan deze voorstellingsmomenten is gratis. \n  \nPLANNING VOORJAAR 2026 \n\nDinsdag 19 mei – Dossierrotatie in de budget- en schuldhulpverlening\n\nTijdens dit BIZonderonsje geeft OCMW Geel een inkijk in hun aanpak rond dossierrotatie binnen budget- en schuldhulpverlening. Ze lichten toe waarom ze deze werkwijze invoerden\, welke randvoorwaarden essentieel zijn en wat de impact is op zowel cliënten als medewerkers.\nEen praktijkmoment voor wie zoekt naar een manier om teams te versterken\, werkdruk te verdelen en continuïteit te bewaken. \n\nDinsdag 16 juni – BIZondere duo’s\n\nOCMW Zwevegem stelt hun werking met BIZondere duo’s voor. In deze aanpak gaat een vrijwillige buddy actief aan de slag met vragen van mensen die in begeleiding zijn bij de sociale dienst. \nDe buddy’s ondersteunen bij: \n\nhet begrijpen van brieven en documenten\,\n\nhet ordenen van administratie\, \n\n\neen overzicht maken van inkomsten en uitgaven. \n\n\nDe buddy biedt een luisterend oor en versterkt mensen op hun eigen tempo\, vanuit gelijkwaardigheid en vertrouwen. Door hun inzet geven ze een waardevolle meerwaarde aan het traject van cliënten in schuldhulpverlening. \nINSCHRIJVEN? \nInschrijven kan via deze form tem 11 mei 2026. Na inschrijving krijg je op voorhand een deelnamelink toegestuurd. \n  \nDEEL JOUW PRAKTIJK!\nWerk jij of jouw organisatie aan een aanpak die andere teams zou kunnen inspireren of versterken? \nHeb je zelf een vraag rond een bepaald thema waar je graag een praktijkvoorbeeld van ziet? \nNeem hiervoor contact op met jokedeclerck@cawoostvlaanderen.be!
URL:https://www.biz-kempen.be/blijf-expert/bizonderonsje-lunchwebinar-ocmw-geel-dossierrotatie/
LOCATION:online
END:VEVENT
BEGIN:VEVENT
DTSTART;TZID=Europe/Helsinki:20260616T123000
DTEND;TZID=Europe/Helsinki:20260616T133000
DTSTAMP:20260423T150341
CREATED:20260403T074702Z
LAST-MODIFIED:20260326T125006Z
UID:8614-1781613000-1781616600@www.biz-kempen.be
SUMMARY:BIZonderonsje - lunchwebinar: OCMW Zwevegem: BIZondere duo's
DESCRIPTION:Met BIZonderonsjes lanceren we dit voorjaar een nieuw\, laagdrempelig initiatief om inspirerende praktijken tussen  \nOCMW’s\, CAW’s en verenigingen waar armen het woord nemen (VWAWN) zichtbaar te maken. \n  \nWAT IS EEN BIZONDERONSJE? \nEen BIZonderonsje is een kort online voorstellingsmoment waarin één organisatie een inspirerende praktijk toelicht. \n12u30 – 13u00: voorstelling van een inspirerende praktijk (max. 30 min) \n13u00 – 13u30: ruimte voor vragen en gesprek \nDeelname aan deze voorstellingsmomenten is gratis. \n  \nPLANNING VOORJAAR 2026 \n\nDinsdag 16 juni – BIZondere duo’s\n\nOCMW Zwevegem stelt hun werking met BIZondere duo’s voor. In deze aanpak gaat een vrijwillige buddy actief aan de slag met vragen van mensen die in begeleiding zijn bij de sociale dienst. \nDe buddy’s ondersteunen bij: \n\nhet begrijpen van brieven en documenten\,\nhet ordenen van administratie\,\neen overzicht maken van inkomsten en uitgaven.\n\nDe buddy biedt een luisterend oor en versterkt mensen op hun eigen tempo\, vanuit gelijkwaardigheid en vertrouwen. Door hun inzet geven ze een waardevolle meerwaarde aan het traject van cliënten in schuldhulpverlening. \nINSCHRIJVEN? \nInschrijven kan via deze form tem 11 mei 2026. Na inschrijving krijg je op voorhand een deelnamelink toegestuurd. \n  \nDEEL JOUW PRAKTIJK!\nWerk jij of jouw organisatie aan een aanpak die andere teams zou kunnen inspireren of versterken? \nHeb je zelf een vraag rond een bepaald thema waar je graag een praktijkvoorbeeld van ziet? \nNeem hiervoor contact op met jokedeclerck@cawoostvlaanderen.be!
URL:https://www.biz-kempen.be/blijf-expert/bizonderonsje-lunchwebinar-ocmw-zwevegem-bizondere-duos/
LOCATION:online
END:VEVENT
END:VCALENDAR